BEGIN:VCALENDAR
VERSION:2.0
PRODID:-//hacksw/handcal//NONSGML v1.0//EN
BEGIN:VEVENT
SUMMARY:TOURNOI DE PALET
UID:eb9d19b7-9c5d-466d-a3b3-d55d52eb5255
DTSTART:20260418T080000Z
DTEND:20260418T220000Z
LOCATION:Stade de Locqueltas 22 route de Bignan  5639 Locqueltas
CATEGORIES:Festif
STATUS:
DESCRIPTION:<p>LES PALETS DU LOCH - 5eme EDITION</p>
 
 <p>Au
 programme:</p>
 
 <p>- Concours de palets en doublette</p>
 
 <p>- 64
 equipes max</p>
 
 <p>- ambiance au max</p>
 
 <p> </p>
 
 <p>5€ par
 joueur</p>
 
 <p>pointage des 10h</p>
 
 <p>debut des parties
 11h</p>
 
 <p> </p>
 
 <p>restauration et buvette sur
 place</p>
 
 <p> </p>
 
 <p>planches et palets non fournis</p>
URL;VALUE=URI:https://www.gardeduloch.fr/evenements/2026/04/18/tournoi-de-palet-2437540
END:VEVENT
END:VCALENDAR
