BEGIN:VCALENDAR
VERSION:2.0
PRODID:-//hacksw/handcal//NONSGML v1.0//EN
BEGIN:VEVENT
SUMMARY:RASSEMBLEMENT U8 ET U9
UID:690907a2-fded-4d4c-bb4b-9b68e6254b0e
DTSTART:20260508T070000Z
DTEND:20260508T150000Z
LOCATION:Stade de Locqueltas 22 route de Bignan  5639 Locqueltas
CATEGORIES:Sportif
STATUS:
URL;VALUE=URI:https://www.gardeduloch.fr/evenements/2026/05/08/rassemblement-u8-et-u9-2437542
END:VEVENT
END:VCALENDAR
